BEGIN:VCALENDAR
VERSION:2.0
PRODID:-//rai ccrm - ECPv6.15.20//NONSGML v1.0//EN
CALSCALE:GREGORIAN
METHOD:PUBLISH
X-WR-CALNAME:rai ccrm
X-ORIGINAL-URL:https://rai-ccrm.fr
X-WR-CALDESC:Évènements pour rai ccrm
REFRESH-INTERVAL;VALUE=DURATION:PT1H
X-Robots-Tag:noindex
X-PUBLISHED-TTL:PT1H
BEGIN:VTIMEZONE
TZID:Europe/Paris
BEGIN:DAYLIGHT
TZOFFSETFROM:+0100
TZOFFSETTO:+0200
TZNAME:CEST
DTSTART:20250330T010000
END:DAYLIGHT
BEGIN:STANDARD
TZOFFSETFROM:+0200
TZOFFSETTO:+0100
TZNAME:CET
DTSTART:20251026T010000
END:STANDARD
BEGIN:DAYLIGHT
TZOFFSETFROM:+0100
TZOFFSETTO:+0200
TZNAME:CEST
DTSTART:20260329T010000
END:DAYLIGHT
BEGIN:STANDARD
TZOFFSETFROM:+0200
TZOFFSETTO:+0100
TZNAME:CET
DTSTART:20261025T010000
END:STANDARD
BEGIN:DAYLIGHT
TZOFFSETFROM:+0100
TZOFFSETTO:+0200
TZNAME:CEST
DTSTART:20270328T010000
END:DAYLIGHT
BEGIN:STANDARD
TZOFFSETFROM:+0200
TZOFFSETTO:+0100
TZNAME:CET
DTSTART:20271031T010000
END:STANDARD
END:VTIMEZONE
BEGIN:VEVENT
DTSTART;TZID=Europe/Paris:20260513T093000
DTEND;TZID=Europe/Paris:20260513T120000
DTSTAMP:20260424T085023
CREATED:20260106T151752Z
LAST-MODIFIED:20260106T151752Z
UID:7639-1778664600-1778673600@rai-ccrm.fr
SUMMARY:FESTI'MOMENT
DESCRIPTION:
URL:https://rai-ccrm.fr/event/festimoment-12/
LOCATION:Salle communale d’Ohnenheim
CATEGORIES:Réseau de soutien à la Parentalité
ATTACH;FMTTYPE=image/jpeg:https://rai-ccrm.fr/wp-content/uploads/2025/04/young-family-with-their-sons-home-having-fun-scaled.jpg
END:VEVENT
BEGIN:VEVENT
DTSTART;TZID=Europe/Paris:20260520T093000
DTEND;TZID=Europe/Paris:20260520T120000
DTSTAMP:20260424T085023
CREATED:20260106T151843Z
LAST-MODIFIED:20260106T151843Z
UID:7641-1779269400-1779278400@rai-ccrm.fr
SUMMARY:FESTI'MOMENT
DESCRIPTION:
URL:https://rai-ccrm.fr/event/festimoment-13/
LOCATION:Salle des fêtes de Hessenheim
CATEGORIES:Réseau de soutien à la Parentalité
ATTACH;FMTTYPE=image/jpeg:https://rai-ccrm.fr/wp-content/uploads/2025/04/young-family-with-their-sons-home-having-fun-scaled.jpg
END:VEVENT
BEGIN:VEVENT
DTSTART;TZID=Europe/Paris:20260526T163000
DTEND;TZID=Europe/Paris:20260526T190000
DTSTAMP:20260424T085023
CREATED:20260106T151907Z
LAST-MODIFIED:20260106T151907Z
UID:7643-1779813000-1779822000@rai-ccrm.fr
SUMMARY:FESTI'MOMENT
DESCRIPTION:
URL:https://rai-ccrm.fr/event/festimoment-14/
LOCATION:Salle des fêtes de Wittisheim
CATEGORIES:Réseau de soutien à la Parentalité
ATTACH;FMTTYPE=image/jpeg:https://rai-ccrm.fr/wp-content/uploads/2025/04/young-family-with-their-sons-home-having-fun-scaled.jpg
END:VEVENT
BEGIN:VEVENT
DTSTART;TZID=Europe/Paris:20260530T100000
DTEND;TZID=Europe/Paris:20260530T160000
DTSTAMP:20260424T085023
CREATED:20260106T151324Z
LAST-MODIFIED:20260416T085243Z
UID:7631-1780135200-1780156800@rai-ccrm.fr
SUMMARY:FESTI'FAMILLE
DESCRIPTION:La journée de la famille organisée par tout un collectif de partenaires faisant parti du Réseau de soutien à la parentalité fait son grand retour !!!\n\n\n\n\n\n Samedi 30 mai de 10h à 16h\n Cour de l’école\, Wittisheim\n Gratuit\, sans inscription\n\n\n\nUne journée d’ateliers et d’animations gratuites pour profiter des uns et des autres \n\n\n\n C’est aussi le moment pour toutes les familles de découvrir\, re-découvrir ou rencontrer des associations qui oeuvrent toute l’année pour proposer des actions pour vous.\n\n\n\n On espère vous voir nombreux !
URL:https://rai-ccrm.fr/event/festimoment-8/
LOCATION:Salle des fêtes de Hessenheim
CATEGORIES:Réseau de soutien à la Parentalité
ATTACH;FMTTYPE=image/png:https://rai-ccrm.fr/wp-content/uploads/2026/01/FESTIFAMILLE-2026.png
END:VEVENT
END:VCALENDAR